BEGIN:VCALENDAR
VERSION:2.0
PRODID:icalendar-ruby
CALSCALE:GREGORIAN
METHOD:PUBLISH
BEGIN:VEVENT
DTSTAMP:20260423T143841Z
UID:97-1016064@fortscott.tithelysetup5.com
DTSTART;VALUE=DATE:20260622
DTEND;VALUE=DATE:20260625
CLASS:PUBLIC
CREATED:20260422T093050
DESCRIPTION:VBS 2026: Exploring the nature of God! Join us for an exciting 
 adventure where kids learn about God as their creator\, a safe place\, lov
 e\, and forever!\nDates: June 22-25\nTime: 6:00 – 8:30 PM\nWho Can Atten
 d: Kids entering Kindergarten through 6th grade\nGet ready for four incred
 ible nights of faith-building fun\, games\, worship\, and hands-on activit
 ies! Each night\, kids will explore the wild world around them and discove
 r how they can trust Jesus in every part of their lives. What to Expect: E
 ngaging Bible Stories – See how God’s Word applies to everyday life Hi
 gh-Energy Worship – Sing\, dance\, and celebrate Jesus! Creative Crafts 
 &amp\; Activities – Hands-on fun that reinforces each lesson Wild &amp\;
  Wacky Games – Outdoor fun\, friendly challenges\, and teamwork Tasty Sn
 acks – Because every adventure needs fuel! Don’t Miss Out! VBS is comp
 letely FREE! Sign up soon when registration is ready and get ready for a W
 ILD week of fun and faith! We can't wait to see you there! Have questions?
  Contact us at bri@fsn.life.
LAST-MODIFIED:20260422T093050
LOCATION:1728 Horton Fort Scott\, KS 66701
SUMMARY:VBS 2026: Rainforest Falls
URL;VALUE=URI:https://www.fsn.life/events/vbs-2026-rainforest-falls/2026-06
 -22
ATTACH;FILENAME=VBS-26-Banner-Presentation.jpg;FMTTYPE=image/jpeg:https://d
 q5pwpg1q8ru0.cloudfront.net/2026/04/22/14/30/50/71572ff9-4c56-4bd0-9387-f5
 c6fdd42646/VBS-26-Banner-Presentation.jpg
END:VEVENT
END:VCALENDAR
